BEGIN:VCALENDAR
VERSION:2.0
PRODID:-//The Hive - ECPv6.15.17.1//NONSGML v1.0//EN
CALSCALE:GREGORIAN
METHOD:PUBLISH
X-WR-CALNAME:The Hive
X-ORIGINAL-URL:https://colleges.claremont.edu/thehive
X-WR-CALDESC:Events for The Hive
REFRESH-INTERVAL;VALUE=DURATION:PT1H
X-Robots-Tag:noindex
X-PUBLISHED-TTL:PT1H
BEGIN:VTIMEZONE
TZID:America/Los_Angeles
BEGIN:DAYLIGHT
TZOFFSETFROM:-0800
TZOFFSETTO:-0700
TZNAME:PDT
DTSTART:20150308T100000
END:DAYLIGHT
BEGIN:STANDARD
TZOFFSETFROM:-0700
TZOFFSETTO:-0800
TZNAME:PST
DTSTART:20151101T090000
END:STANDARD
BEGIN:DAYLIGHT
TZOFFSETFROM:-0800
TZOFFSETTO:-0700
TZNAME:PDT
DTSTART:20160313T100000
END:DAYLIGHT
BEGIN:STANDARD
TZOFFSETFROM:-0700
TZOFFSETTO:-0800
TZNAME:PST
DTSTART:20161106T090000
END:STANDARD
BEGIN:DAYLIGHT
TZOFFSETFROM:-0800
TZOFFSETTO:-0700
TZNAME:PDT
DTSTART:20170312T100000
END:DAYLIGHT
BEGIN:STANDARD
TZOFFSETFROM:-0700
TZOFFSETTO:-0800
TZNAME:PST
DTSTART:20171105T090000
END:STANDARD
END:VTIMEZONE
BEGIN:VEVENT
DTSTART;TZID=America/Los_Angeles:20160128T183000
DTEND;TZID=America/Los_Angeles:20160128T203000
DTSTAMP:20260420T123649
CREATED:20200411T050956Z
LAST-MODIFIED:20200411T050957Z
UID:1155-1454005800-1454013000@colleges.claremont.edu
SUMMARY:Intro to Design Thinking Workshop (at Harvey Mudd)
DESCRIPTION:Tom Maiorana and Vida Mia Garcia from the Hive will offer two design thinking workshops this week. \nIn two hours you will get exposure to design thinking\, a human-centered process for tackling challenging\, messy problems. Whether you are interested in social justice\, entrepreneurship\, or just looking to flex your creative muscles\, we think you’ll come out of the workshop with some useful tools. \nWe’ll spend the time reimagining time management for college students. This is a fast-paced\, hands-on activity where participants pair up to interview each other\, identify real needs\, and then prototype a solution to “Reimagine the Snacking Experience for their Peers”. NO PREVIOUS DESIGN OR DESIGN THINKING EXPERIENCE REQUIRED. We will provide all the information you need to be successful! \nIf you are curious about Design Thinking\, you can see a quick background here. (4 min. video) https://vimeo.com/90355541 \nSpace is limited.\nPuh-LEEZE RSVP in the link to the Google Doc above!
URL:https://colleges.claremont.edu/thehive/event/intro-to-design-thinking-workshop/
LOCATION:Harvey Mudd College\, Parsons E4 Studio\, Room Number 1287
ATTACH;FMTTYPE=image/png:https://colleges.claremont.edu/thehive/wp-content/uploads/sites/47/2020/04/mudd.png
END:VEVENT
END:VCALENDAR