BEGIN:VCALENDAR
VERSION:2.0
PRODID:-//The Hive - ECPv6.15.17.1//NONSGML v1.0//EN
CALSCALE:GREGORIAN
METHOD:PUBLISH
X-ORIGINAL-URL:https://colleges.claremont.edu/thehive
X-WR-CALDESC:Events for The Hive
REFRESH-INTERVAL;VALUE=DURATION:PT1H
X-Robots-Tag:noindex
X-PUBLISHED-TTL:PT1H
BEGIN:VTIMEZONE
TZID:America/Los_Angeles
BEGIN:DAYLIGHT
TZOFFSETFROM:-0800
TZOFFSETTO:-0700
TZNAME:PDT
DTSTART:20190310T100000
END:DAYLIGHT
BEGIN:STANDARD
TZOFFSETFROM:-0700
TZOFFSETTO:-0800
TZNAME:PST
DTSTART:20191103T090000
END:STANDARD
BEGIN:DAYLIGHT
TZOFFSETFROM:-0800
TZOFFSETTO:-0700
TZNAME:PDT
DTSTART:20200308T100000
END:DAYLIGHT
BEGIN:STANDARD
TZOFFSETFROM:-0700
TZOFFSETTO:-0800
TZNAME:PST
DTSTART:20201101T090000
END:STANDARD
BEGIN:DAYLIGHT
TZOFFSETFROM:-0800
TZOFFSETTO:-0700
TZNAME:PDT
DTSTART:20210314T100000
END:DAYLIGHT
BEGIN:STANDARD
TZOFFSETFROM:-0700
TZOFFSETTO:-0800
TZNAME:PST
DTSTART:20211107T090000
END:STANDARD
BEGIN:DAYLIGHT
TZOFFSETFROM:-0800
TZOFFSETTO:-0700
TZNAME:PDT
DTSTART:20220313T100000
END:DAYLIGHT
BEGIN:STANDARD
TZOFFSETFROM:-0700
TZOFFSETTO:-0800
TZNAME:PST
DTSTART:20221106T090000
END:STANDARD
BEGIN:DAYLIGHT
TZOFFSETFROM:-0800
TZOFFSETTO:-0700
TZNAME:PDT
DTSTART:20230312T100000
END:DAYLIGHT
BEGIN:STANDARD
TZOFFSETFROM:-0700
TZOFFSETTO:-0800
TZNAME:PST
DTSTART:20231105T090000
END:STANDARD
BEGIN:DAYLIGHT
TZOFFSETFROM:-0800
TZOFFSETTO:-0700
TZNAME:PDT
DTSTART:20240310T100000
END:DAYLIGHT
BEGIN:STANDARD
TZOFFSETFROM:-0700
TZOFFSETTO:-0800
TZNAME:PST
DTSTART:20241103T090000
END:STANDARD
BEGIN:DAYLIGHT
TZOFFSETFROM:-0800
TZOFFSETTO:-0700
TZNAME:PDT
DTSTART:20250309T100000
END:DAYLIGHT
BEGIN:STANDARD
TZOFFSETFROM:-0700
TZOFFSETTO:-0800
TZNAME:PST
DTSTART:20251102T090000
END:STANDARD
BEGIN:DAYLIGHT
TZOFFSETFROM:-0800
TZOFFSETTO:-0700
TZNAME:PDT
DTSTART:20260308T100000
END:DAYLIGHT
BEGIN:STANDARD
TZOFFSETFROM:-0700
TZOFFSETTO:-0800
TZNAME:PST
DTSTART:20261101T090000
END:STANDARD
END:VTIMEZONE
BEGIN:VEVENT
DTSTART;TZID=America/Los_Angeles:20251112T183000
DTEND;TZID=America/Los_Angeles:20251112T203000
DTSTAMP:20260422T193430
CREATED:20250905T210704Z
LAST-MODIFIED:20250905T210704Z
UID:5408-1762972200-1762979400@colleges.claremont.edu
SUMMARY:Print Lab Workshop: How to Screenprint
DESCRIPTION:Explore the basics of reproducible media with silkscreen printing in our print lab! \nRSVP Required — Click to Register!
URL:https://colleges.claremont.edu/thehive/event/print-lab-workshop-how-to-screenprint-4/
LOCATION:Print Lab — The Hive\, 130 E 7th St\, Claremont\, CA\, 91711\, United States
ATTACH;FMTTYPE=image/png:https://colleges.claremont.edu/thehive/wp-content/uploads/sites/47/2025/09/Print-Lab-Workshop-Eventbrite.png
END:VEVENT
BEGIN:VEVENT
DTSTART;TZID=America/Los_Angeles:20251029T183000
DTEND;TZID=America/Los_Angeles:20251029T203000
DTSTAMP:20260422T193430
CREATED:20250905T210536Z
LAST-MODIFIED:20250905T210536Z
UID:5406-1761762600-1761769800@colleges.claremont.edu
SUMMARY:Print Lab Workshop: How to Screenprint
DESCRIPTION:Explore the basics of reproducible media with silkscreen printing in our print lab! \nRSVP Required — Click to Register!
URL:https://colleges.claremont.edu/thehive/event/print-lab-workshop-how-to-screenprint-3/
LOCATION:Print Lab — The Hive\, 130 E 7th St\, Claremont\, CA\, 91711\, United States
ATTACH;FMTTYPE=image/png:https://colleges.claremont.edu/thehive/wp-content/uploads/sites/47/2025/09/Print-Lab-Workshop-Eventbrite.png
END:VEVENT
BEGIN:VEVENT
DTSTART;TZID=America/Los_Angeles:20251008T183000
DTEND;TZID=America/Los_Angeles:20251008T203000
DTSTAMP:20260422T193430
CREATED:20250905T210347Z
LAST-MODIFIED:20250905T210347Z
UID:5405-1759948200-1759955400@colleges.claremont.edu
SUMMARY:Print Lab Workshop: How to Screenprint
DESCRIPTION:Explore the basics of reproducible media with silkscreen printing in our print lab! \nRSVP Required — Click to Register!
URL:https://colleges.claremont.edu/thehive/event/print-lab-workshop-how-to-screenprint-2/
LOCATION:Print Lab — The Hive\, 130 E 7th St\, Claremont\, CA\, 91711\, United States
ATTACH;FMTTYPE=image/png:https://colleges.claremont.edu/thehive/wp-content/uploads/sites/47/2025/09/Print-Lab-Workshop-Eventbrite.png
END:VEVENT
BEGIN:VEVENT
DTSTART;TZID=America/Los_Angeles:20250924T183000
DTEND;TZID=America/Los_Angeles:20250924T203000
DTSTAMP:20260422T193430
CREATED:20250905T210212Z
LAST-MODIFIED:20250905T210212Z
UID:5403-1758738600-1758745800@colleges.claremont.edu
SUMMARY:Print Lab Workshop: How to Screenprint
DESCRIPTION:Explore the basics of reproducible media with silkscreen printing in our print lab! \nRSVP Required — Click to Register!
URL:https://colleges.claremont.edu/thehive/event/print-lab-workshop-how-to-screenprint/
LOCATION:Print Lab — The Hive\, 130 E 7th St\, Claremont\, CA\, 91711\, United States
ATTACH;FMTTYPE=image/png:https://colleges.claremont.edu/thehive/wp-content/uploads/sites/47/2025/09/Print-Lab-Workshop-Eventbrite.png
END:VEVENT
BEGIN:VEVENT
DTSTART;TZID=America/Los_Angeles:20230417T160000
DTEND;TZID=America/Los_Angeles:20230417T180000
DTSTAMP:20260422T193430
CREATED:20230120T010714Z
LAST-MODIFIED:20230120T010714Z
UID:4295-1681747200-1681754400@colleges.claremont.edu
SUMMARY:Printmaking Skill Share
DESCRIPTION:Screen Printing is used by many\, from artists to fashion industry professionals. In our introductory skill shares\, find out what makes this medium so compelling for so many.\nExplore the basics of reproducible media with silkscreen printing. \nRegistration required! \nClick here to RSVP!
URL:https://colleges.claremont.edu/thehive/event/printmaking-skill-share-18/
LOCATION:Print Lab — The Hive\, 130 E 7th St\, Claremont\, CA\, 91711\, United States
ATTACH;FMTTYPE=image/png:https://colleges.claremont.edu/thehive/wp-content/uploads/sites/47/2023/01/print-lab-skill-share.png
END:VEVENT
BEGIN:VEVENT
DTSTART;TZID=America/Los_Angeles:20230327T160000
DTEND;TZID=America/Los_Angeles:20230327T180000
DTSTAMP:20260422T193430
CREATED:20230120T005823Z
LAST-MODIFIED:20230120T005823Z
UID:4291-1679932800-1679940000@colleges.claremont.edu
SUMMARY:Printmaking Skill Share
DESCRIPTION:Screen Printing is used by many\, from artists to fashion industry professionals. In our introductory skill shares\, find out what makes this medium so compelling for so many.\nExplore the basics of reproducible media with silkscreen printing. \nRegistration required! \nClick here to RSVP!
URL:https://colleges.claremont.edu/thehive/event/printmaking-skill-share-17/
LOCATION:Print Lab — The Hive\, 130 E 7th St\, Claremont\, CA\, 91711\, United States
ATTACH;FMTTYPE=image/png:https://colleges.claremont.edu/thehive/wp-content/uploads/sites/47/2023/01/print-lab-skill-share.png
END:VEVENT
BEGIN:VEVENT
DTSTART;TZID=America/Los_Angeles:20230306T160000
DTEND;TZID=America/Los_Angeles:20230306T180000
DTSTAMP:20260422T193430
CREATED:20230120T005134Z
LAST-MODIFIED:20230120T005134Z
UID:4289-1678118400-1678125600@colleges.claremont.edu
SUMMARY:Printmaking Skill Share
DESCRIPTION:Screen Printing is used by many\, from artists to fashion industry professionals. In our introductory skill shares\, find out what makes this medium so compelling for so many.\nExplore the basics of reproducible media with silkscreen printing. \nRegistration required! \nClick here to RSVP!
URL:https://colleges.claremont.edu/thehive/event/printmaking-skill-share-16/
LOCATION:Print Lab — The Hive\, 130 E 7th St\, Claremont\, CA\, 91711\, United States
ATTACH;FMTTYPE=image/png:https://colleges.claremont.edu/thehive/wp-content/uploads/sites/47/2023/01/print-lab-skill-share.png
END:VEVENT
BEGIN:VEVENT
DTSTART;TZID=America/Los_Angeles:20230213T160000
DTEND;TZID=America/Los_Angeles:20230213T180000
DTSTAMP:20260422T193430
CREATED:20230120T003659Z
LAST-MODIFIED:20230120T011629Z
UID:4282-1676304000-1676311200@colleges.claremont.edu
SUMMARY:Printmaking Skill Share
DESCRIPTION:Screen Printing is used by many\, from artists to fashion industry professionals. In our introductory skill shares\, find out what makes this medium so compelling for so many. \nExplore the basics of reproducible media with silkscreen printing. \nRegistration required! \nClick here to RSVP!\n 
URL:https://colleges.claremont.edu/thehive/event/print-lab-skill-share-2/
LOCATION:Print Lab — The Hive\, 130 E 7th St\, Claremont\, CA\, 91711\, United States
ATTACH;FMTTYPE=image/png:https://colleges.claremont.edu/thehive/wp-content/uploads/sites/47/2023/01/print-lab-skill-share.png
END:VEVENT
BEGIN:VEVENT
DTSTART;TZID=America/Los_Angeles:20230206T160000
DTEND;TZID=America/Los_Angeles:20230206T180000
DTSTAMP:20260422T193430
CREATED:20230203T212420Z
LAST-MODIFIED:20230203T212420Z
UID:4323-1675699200-1675706400@colleges.claremont.edu
SUMMARY:Printmaking Skill Share
DESCRIPTION:Screen Printing is used by many\, from artists to fashion industry professionals. In our introductory skill shares\, find out what makes this medium so compelling for so many. \nExplore the basics of reproducible media with silkscreen printing. \nRegistration required! \nClick here to RSVP!\n 
URL:https://colleges.claremont.edu/thehive/event/printmaking-skill-share-19/
LOCATION:Print Lab — The Hive\, 130 E 7th St\, Claremont\, CA\, 91711\, United States
ATTACH;FMTTYPE=image/png:https://colleges.claremont.edu/thehive/wp-content/uploads/sites/47/2023/01/print-lab-skill-share.png
END:VEVENT
BEGIN:VEVENT
DTSTART;TZID=America/Los_Angeles:20221130T160000
DTEND;TZID=America/Los_Angeles:20221130T180000
DTSTAMP:20260422T193430
CREATED:20220829T225123Z
LAST-MODIFIED:20220829T225642Z
UID:3987-1669824000-1669831200@colleges.claremont.edu
SUMMARY:Printmaking Skill Share
DESCRIPTION:Screen Printing is used by many\, from artists to fashion industry professionals. In our introductory skill shares\, find out what makes this medium so compelling for so many. \nRSVPs for this event start 10/18 on our Eventbrite!
URL:https://colleges.claremont.edu/thehive/event/printmaking-skill-share-15/
LOCATION:Print Lab — The Hive\, 130 E 7th St\, Claremont\, CA\, 91711\, United States
ATTACH;FMTTYPE=image/png:https://colleges.claremont.edu/thehive/wp-content/uploads/sites/47/2022/08/printmaking-skill-share.png
END:VEVENT
BEGIN:VEVENT
DTSTART;TZID=America/Los_Angeles:20221116T160000
DTEND;TZID=America/Los_Angeles:20221116T180000
DTSTAMP:20260422T193430
CREATED:20220829T224841Z
LAST-MODIFIED:20220829T224841Z
UID:3986-1668614400-1668621600@colleges.claremont.edu
SUMMARY:Printmaking Skill Share
DESCRIPTION:Screen Printing is used by many\, from artists to fashion industry professionals. In our introductory skill shares\, find out what makes this medium so compelling for so many. \nRSVPs for this event start 10/18 on our Eventbrite!
URL:https://colleges.claremont.edu/thehive/event/printmaking-skill-share-14/
LOCATION:Print Lab — The Hive\, 130 E 7th St\, Claremont\, CA\, 91711\, United States
ATTACH;FMTTYPE=image/png:https://colleges.claremont.edu/thehive/wp-content/uploads/sites/47/2022/08/printmaking-skill-share.png
END:VEVENT
BEGIN:VEVENT
DTSTART;TZID=America/Los_Angeles:20221026T160000
DTEND;TZID=America/Los_Angeles:20221026T180000
DTSTAMP:20260422T193430
CREATED:20220829T224552Z
LAST-MODIFIED:20220829T224905Z
UID:3985-1666800000-1666807200@colleges.claremont.edu
SUMMARY:Printmaking Skill Share
DESCRIPTION:Screen Printing is used by many\, from artists to fashion industry professionals. In our introductory skill shares\, find out what makes this medium so compelling for so many. \nRSVPs for this event start 9/19 on our Eventbrite!
URL:https://colleges.claremont.edu/thehive/event/printmaking-skill-share-13/
LOCATION:Print Lab — The Hive\, 130 E 7th St\, Claremont\, CA\, 91711\, United States
ATTACH;FMTTYPE=image/png:https://colleges.claremont.edu/thehive/wp-content/uploads/sites/47/2022/08/printmaking-skill-share.png
END:VEVENT
BEGIN:VEVENT
DTSTART;TZID=America/Los_Angeles:20221012T160000
DTEND;TZID=America/Los_Angeles:20221012T180000
DTSTAMP:20260422T193430
CREATED:20220829T223734Z
LAST-MODIFIED:20220829T224919Z
UID:3983-1665590400-1665597600@colleges.claremont.edu
SUMMARY:Printmaking Skill Share
DESCRIPTION:Screen Printing is used by many\, from artists to fashion industry professionals. In our introductory skill shares\, find out what makes this medium so compelling for so many. \nRSVPs for this event start 9/19 on our Eventbrite!
URL:https://colleges.claremont.edu/thehive/event/printmaking-skill-share-12/
LOCATION:Print Lab — The Hive\, 130 E 7th St\, Claremont\, CA\, 91711\, United States
ATTACH;FMTTYPE=image/png:https://colleges.claremont.edu/thehive/wp-content/uploads/sites/47/2022/08/printmaking-skill-share.png
END:VEVENT
BEGIN:VEVENT
DTSTART;TZID=America/Los_Angeles:20220921T160000
DTEND;TZID=America/Los_Angeles:20220921T180000
DTSTAMP:20260422T193430
CREATED:20220829T223020Z
LAST-MODIFIED:20220829T223020Z
UID:3979-1663776000-1663783200@colleges.claremont.edu
SUMMARY:Printmaking Skill Share
DESCRIPTION:Screen Printing is used by many\, from artists to fashion industry professionals. In our introductory skill shares\, find out what makes this medium so compelling for so many. \nRSVP for this event on our Eventbrite!
URL:https://colleges.claremont.edu/thehive/event/printmaking-skill-share-10/
LOCATION:Print Lab — The Hive\, 130 E 7th St\, Claremont\, CA\, 91711\, United States
ATTACH;FMTTYPE=image/png:https://colleges.claremont.edu/thehive/wp-content/uploads/sites/47/2022/08/printmaking-skill-share.png
END:VEVENT
BEGIN:VEVENT
DTSTART;TZID=America/Los_Angeles:20220201T180000
DTEND;TZID=America/Los_Angeles:20220201T200000
DTSTAMP:20260422T193430
CREATED:20220121T191138Z
LAST-MODIFIED:20220124T030936Z
UID:3673-1643738400-1643745600@colleges.claremont.edu
SUMMARY:Printmaking Skill Share
DESCRIPTION:Screen Printing is used by many\, from artists to fashion industry professionals. In our introductory skill shares\, find out what makes this medium so compelling for so many. \nRegistration required! \nRSVP on our Eventbrite page!
URL:https://colleges.claremont.edu/thehive/event/printmaking-skill-share/
LOCATION:Print Lab — The Hive\, 130 E 7th St\, Claremont\, CA\, 91711\, United States
ATTACH;FMTTYPE=image/png:https://colleges.claremont.edu/thehive/wp-content/uploads/sites/47/2022/01/printmaking-skill-share.png
END:VEVENT
BEGIN:VEVENT
DTSTART;TZID=America/Los_Angeles:20200311T173000
DTEND;TZID=America/Los_Angeles:20200311T190000
DTSTAMP:20260422T193430
CREATED:20200411T051928Z
LAST-MODIFIED:20200411T053150Z
UID:1768-1583947800-1583953200@colleges.claremont.edu
SUMMARY:Screen Printing Skill Share
DESCRIPTION:Learn how to use inks and screens to create fun projects such as shirts\, bags\, and posters.
URL:https://colleges.claremont.edu/thehive/event/screen-printing-skill-share-2-2020-03-11/
LOCATION:Print Lab — The Hive\, 130 E 7th St\, Claremont\, CA\, 91711\, United States
CATEGORIES:Screen Printing Skill Share
ATTACH;FMTTYPE=image/png:https://colleges.claremont.edu/thehive/wp-content/uploads/sites/47/2020/04/screen-printing.png
END:VEVENT
BEGIN:VEVENT
DTSTART;TZID=America/Los_Angeles:20200304T173000
DTEND;TZID=America/Los_Angeles:20200304T190000
DTSTAMP:20260422T193430
CREATED:20200411T051917Z
LAST-MODIFIED:20200411T053138Z
UID:1767-1583343000-1583348400@colleges.claremont.edu
SUMMARY:Screen Printing Skill Share
DESCRIPTION:Learn how to use inks and screens to create fun projects such as shirts\, bags\, and posters.
URL:https://colleges.claremont.edu/thehive/event/screen-printing-skill-share-2-2020-03-04/
LOCATION:Print Lab — The Hive\, 130 E 7th St\, Claremont\, CA\, 91711\, United States
CATEGORIES:Screen Printing Skill Share
ATTACH;FMTTYPE=image/png:https://colleges.claremont.edu/thehive/wp-content/uploads/sites/47/2020/04/screen-printing.png
END:VEVENT
BEGIN:VEVENT
DTSTART;TZID=America/Los_Angeles:20200226T173000
DTEND;TZID=America/Los_Angeles:20200226T190000
DTSTAMP:20260422T193430
CREATED:20200411T051917Z
LAST-MODIFIED:20200411T053209Z
UID:1766-1582738200-1582743600@colleges.claremont.edu
SUMMARY:Screen Printing Skill Share
DESCRIPTION:Learn how to use inks and screens to create fun projects such as shirts\, bags\, and posters.
URL:https://colleges.claremont.edu/thehive/event/screen-printing-skill-share-2-2020-02-26/
LOCATION:Print Lab — The Hive\, 130 E 7th St\, Claremont\, CA\, 91711\, United States
CATEGORIES:Screen Printing Skill Share
ATTACH;FMTTYPE=image/png:https://colleges.claremont.edu/thehive/wp-content/uploads/sites/47/2020/04/screen-printing.png
END:VEVENT
BEGIN:VEVENT
DTSTART;TZID=America/Los_Angeles:20200219T173000
DTEND;TZID=America/Los_Angeles:20200219T190000
DTSTAMP:20260422T193430
CREATED:20200411T051917Z
LAST-MODIFIED:20200411T053219Z
UID:1765-1582133400-1582138800@colleges.claremont.edu
SUMMARY:Screen Printing Skill Share
DESCRIPTION:Learn how to use inks and screens to create fun projects such as shirts\, bags\, and posters.
URL:https://colleges.claremont.edu/thehive/event/screen-printing-skill-share-2-2020-02-19/
LOCATION:Print Lab — The Hive\, 130 E 7th St\, Claremont\, CA\, 91711\, United States
CATEGORIES:Screen Printing Skill Share
ATTACH;FMTTYPE=image/png:https://colleges.claremont.edu/thehive/wp-content/uploads/sites/47/2020/04/screen-printing.png
END:VEVENT
BEGIN:VEVENT
DTSTART;TZID=America/Los_Angeles:20200212T173000
DTEND;TZID=America/Los_Angeles:20200212T190000
DTSTAMP:20260422T193430
CREATED:20200411T051917Z
LAST-MODIFIED:20200411T053231Z
UID:1764-1581528600-1581534000@colleges.claremont.edu
SUMMARY:Screen Printing Skill Share
DESCRIPTION:Learn how to use inks and screens to create fun projects such as shirts\, bags\, and posters.
URL:https://colleges.claremont.edu/thehive/event/screen-printing-skill-share-2-2020-02-12/
LOCATION:Print Lab — The Hive\, 130 E 7th St\, Claremont\, CA\, 91711\, United States
CATEGORIES:Screen Printing Skill Share
ATTACH;FMTTYPE=image/png:https://colleges.claremont.edu/thehive/wp-content/uploads/sites/47/2020/04/screen-printing.png
END:VEVENT
BEGIN:VEVENT
DTSTART;TZID=America/Los_Angeles:20200205T173000
DTEND;TZID=America/Los_Angeles:20200205T190000
DTSTAMP:20260422T193430
CREATED:20200411T051917Z
LAST-MODIFIED:20200411T053200Z
UID:1762-1580923800-1580929200@colleges.claremont.edu
SUMMARY:Screen Printing Skill Share
DESCRIPTION:Learn how to use inks and screens to create fun projects such as shirts\, bags\, and posters.
URL:https://colleges.claremont.edu/thehive/event/screen-printing-skill-share-2/
LOCATION:Print Lab — The Hive\, 130 E 7th St\, Claremont\, CA\, 91711\, United States
CATEGORIES:Screen Printing Skill Share
ATTACH;FMTTYPE=image/png:https://colleges.claremont.edu/thehive/wp-content/uploads/sites/47/2020/04/screen-printing.png
END:VEVENT
END:VCALENDAR