BEGIN:VCALENDAR
VERSION:2.0
PRODID:-//The Hive - ECPv6.15.17.1//NONSGML v1.0//EN
CALSCALE:GREGORIAN
METHOD:PUBLISH
X-WR-CALNAME:The Hive
X-ORIGINAL-URL:https://colleges.claremont.edu/thehive
X-WR-CALDESC:Events for The Hive
REFRESH-INTERVAL;VALUE=DURATION:PT1H
X-Robots-Tag:noindex
X-PUBLISHED-TTL:PT1H
BEGIN:VTIMEZONE
TZID:America/Los_Angeles
BEGIN:DAYLIGHT
TZOFFSETFROM:-0800
TZOFFSETTO:-0700
TZNAME:PDT
DTSTART:20210314T100000
END:DAYLIGHT
BEGIN:STANDARD
TZOFFSETFROM:-0700
TZOFFSETTO:-0800
TZNAME:PST
DTSTART:20211107T090000
END:STANDARD
BEGIN:DAYLIGHT
TZOFFSETFROM:-0800
TZOFFSETTO:-0700
TZNAME:PDT
DTSTART:20220313T100000
END:DAYLIGHT
BEGIN:STANDARD
TZOFFSETFROM:-0700
TZOFFSETTO:-0800
TZNAME:PST
DTSTART:20221106T090000
END:STANDARD
BEGIN:DAYLIGHT
TZOFFSETFROM:-0800
TZOFFSETTO:-0700
TZNAME:PDT
DTSTART:20230312T100000
END:DAYLIGHT
BEGIN:STANDARD
TZOFFSETFROM:-0700
TZOFFSETTO:-0800
TZNAME:PST
DTSTART:20231105T090000
END:STANDARD
END:VTIMEZONE
BEGIN:VEVENT
DTSTART;TZID=America/Los_Angeles:20221025T183000
DTEND;TZID=America/Los_Angeles:20221025T203000
DTSTAMP:20260419T212650
CREATED:20220829T230954Z
LAST-MODIFIED:20220830T192213Z
UID:3993-1666722600-1666729800@colleges.claremont.edu
SUMMARY:Sewing Skill Share
DESCRIPTION:Learn the basics of sewing by hand and with a machine from our student proctors.  \nRegistration required! \nPlease RSVP on our Eventbrite page starting 9/19 at 12pm!
URL:https://colleges.claremont.edu/thehive/event/sewing-skill-share-9/
LOCATION:Sewing Shed – The Hive
ATTACH;FMTTYPE=image/png:https://colleges.claremont.edu/thehive/wp-content/uploads/sites/47/2022/08/sewing-skill-share.png
END:VEVENT
BEGIN:VEVENT
DTSTART;TZID=America/Los_Angeles:20221004T183000
DTEND;TZID=America/Los_Angeles:20221004T203000
DTSTAMP:20260419T212650
CREATED:20220829T230710Z
LAST-MODIFIED:20220829T230710Z
UID:3992-1664908200-1664915400@colleges.claremont.edu
SUMMARY:Sewing Skill Share
DESCRIPTION:Learn the basics of sewing by hand and with a machine from our student proctors.  \nRegistration required! \nPlease RSVP on our Eventbrite page!
URL:https://colleges.claremont.edu/thehive/event/sewing-skill-share-8/
LOCATION:Sewing Shed – The Hive
ATTACH;FMTTYPE=image/png:https://colleges.claremont.edu/thehive/wp-content/uploads/sites/47/2022/08/sewing-skill-share.png
END:VEVENT
BEGIN:VEVENT
DTSTART;TZID=America/Los_Angeles:20220927T183000
DTEND;TZID=America/Los_Angeles:20220927T203000
DTSTAMP:20260419T212650
CREATED:20220829T230351Z
LAST-MODIFIED:20220829T230351Z
UID:3991-1664303400-1664310600@colleges.claremont.edu
SUMMARY:Sewing Skill Share
DESCRIPTION:Learn the basics of sewing by hand and with a machine from our student proctors.  \nRegistration required! \nPlease RSVP on our Eventbrite page!
URL:https://colleges.claremont.edu/thehive/event/sewing-skill-share-7/
LOCATION:Sewing Shed – The Hive
ATTACH;FMTTYPE=image/png:https://colleges.claremont.edu/thehive/wp-content/uploads/sites/47/2022/08/sewing-skill-share.png
END:VEVENT
BEGIN:VEVENT
DTSTART;TZID=America/Los_Angeles:20220913T183000
DTEND;TZID=America/Los_Angeles:20220913T203000
DTSTAMP:20260419T212650
CREATED:20220829T230142Z
LAST-MODIFIED:20220829T230142Z
UID:3988-1663093800-1663101000@colleges.claremont.edu
SUMMARY:Sewing Skill Share
DESCRIPTION:Learn the basics of sewing by hand and with a machine from our student proctors.  \nRegistration required! \nPlease RSVP on our Eventbrite page!
URL:https://colleges.claremont.edu/thehive/event/sewing-skill-share-6/
LOCATION:Sewing Shed – The Hive
ATTACH;FMTTYPE=image/png:https://colleges.claremont.edu/thehive/wp-content/uploads/sites/47/2022/08/sewing-skill-share.png
END:VEVENT
END:VCALENDAR