BEGIN:VCALENDAR
VERSION:2.0
PRODID:-//The Hive - ECPv6.15.17.1//NONSGML v1.0//EN
CALSCALE:GREGORIAN
METHOD:PUBLISH
X-ORIGINAL-URL:https://colleges.claremont.edu/thehive
X-WR-CALDESC:Events for The Hive
REFRESH-INTERVAL;VALUE=DURATION:PT1H
X-Robots-Tag:noindex
X-PUBLISHED-TTL:PT1H
BEGIN:VTIMEZONE
TZID:America/Denver
BEGIN:DAYLIGHT
TZOFFSETFROM:-0700
TZOFFSETTO:-0600
TZNAME:MDT
DTSTART:20160313T090000
END:DAYLIGHT
BEGIN:STANDARD
TZOFFSETFROM:-0600
TZOFFSETTO:-0700
TZNAME:MST
DTSTART:20161106T080000
END:STANDARD
BEGIN:DAYLIGHT
TZOFFSETFROM:-0700
TZOFFSETTO:-0600
TZNAME:MDT
DTSTART:20170312T090000
END:DAYLIGHT
BEGIN:STANDARD
TZOFFSETFROM:-0600
TZOFFSETTO:-0700
TZNAME:MST
DTSTART:20171105T080000
END:STANDARD
BEGIN:DAYLIGHT
TZOFFSETFROM:-0700
TZOFFSETTO:-0600
TZNAME:MDT
DTSTART:20180311T090000
END:DAYLIGHT
BEGIN:STANDARD
TZOFFSETFROM:-0600
TZOFFSETTO:-0700
TZNAME:MST
DTSTART:20181104T080000
END:STANDARD
END:VTIMEZONE
BEGIN:VEVENT
DTSTART;TZID=America/Denver:20170419T190000
DTEND;TZID=America/Denver:20170419T210000
DTSTAMP:20260421T125921
CREATED:20200411T051221Z
LAST-MODIFIED:20200411T051221Z
UID:1430-1492628400-1492635600@colleges.claremont.edu
SUMMARY:Adisa Studios: Intro Screen Printing
DESCRIPTION:This past school year\, we at Adisa Studios have been working hard in collaboration with the Hive to facilitate a screen printing resource at the Claremont colleges. Next week\, April 19th\, from 7:00PM to 9:00PM\, we will be hosting our 1st Introduction Workshop to the space. There are big plans in store for this room and it’s future; come by a workshop and/or the Adisa Studios end of year show (April 28th 8:30-11:00 @ the Hive) to find out more. \nDUE TO LIMITED STUDIO SPACE AND SUPPLIES\, WORKSHOP SPACE IS LIMITED. RSVP HERE:\nhttps://goo.gl/forms/LZqJbzlPYggMaE4D3\nhttps://goo.gl/forms/LZqJbzlPYggMaE4D3\nhttps://goo.gl/forms/LZqJbzlPYggMaE4D3  \n———-\nACCESSIBILITY\nThe Hive is accessible through the entrance facing 7th Street (north entrance)\, the entrance facing College Ave (west entrance)\, and the entrance adjacent to Millikan Laboratory and the Cowart ITS building (east entrance). The west entrance can open automatically. For accommodations\, please contact the Hive via Facebook message\, email (hive@claremont.edu)\, or phone call (909-607-9248).
URL:https://colleges.claremont.edu/thehive/event/adisa-studios-intro-screen-printing/
LOCATION:The Hive—Adisa Studios
ATTACH;FMTTYPE=image/jpeg:https://colleges.claremont.edu/thehive/wp-content/uploads/sites/47/2020/04/facebook_event_1452000218204631.jpg
END:VEVENT
END:VCALENDAR