BEGIN:VCALENDAR
VERSION:2.0
PRODID:-//The Hive - ECPv6.15.17.1//NONSGML v1.0//EN
CALSCALE:GREGORIAN
METHOD:PUBLISH
X-ORIGINAL-URL:https://colleges.claremont.edu/thehive
X-WR-CALDESC:Events for The Hive
REFRESH-INTERVAL;VALUE=DURATION:PT1H
X-Robots-Tag:noindex
X-PUBLISHED-TTL:PT1H
BEGIN:VTIMEZONE
TZID:America/Los_Angeles
BEGIN:DAYLIGHT
TZOFFSETFROM:-0800
TZOFFSETTO:-0700
TZNAME:PDT
DTSTART:20170312T100000
END:DAYLIGHT
BEGIN:STANDARD
TZOFFSETFROM:-0700
TZOFFSETTO:-0800
TZNAME:PST
DTSTART:20171105T090000
END:STANDARD
BEGIN:DAYLIGHT
TZOFFSETFROM:-0800
TZOFFSETTO:-0700
TZNAME:PDT
DTSTART:20180311T100000
END:DAYLIGHT
BEGIN:STANDARD
TZOFFSETFROM:-0700
TZOFFSETTO:-0800
TZNAME:PST
DTSTART:20181104T090000
END:STANDARD
BEGIN:DAYLIGHT
TZOFFSETFROM:-0800
TZOFFSETTO:-0700
TZNAME:PDT
DTSTART:20190310T100000
END:DAYLIGHT
BEGIN:STANDARD
TZOFFSETFROM:-0700
TZOFFSETTO:-0800
TZNAME:PST
DTSTART:20191103T090000
END:STANDARD
BEGIN:DAYLIGHT
TZOFFSETFROM:-0800
TZOFFSETTO:-0700
TZNAME:PDT
DTSTART:20200308T100000
END:DAYLIGHT
BEGIN:STANDARD
TZOFFSETFROM:-0700
TZOFFSETTO:-0800
TZNAME:PST
DTSTART:20201101T090000
END:STANDARD
BEGIN:DAYLIGHT
TZOFFSETFROM:-0800
TZOFFSETTO:-0700
TZNAME:PDT
DTSTART:20210314T100000
END:DAYLIGHT
BEGIN:STANDARD
TZOFFSETFROM:-0700
TZOFFSETTO:-0800
TZNAME:PST
DTSTART:20211107T090000
END:STANDARD
BEGIN:DAYLIGHT
TZOFFSETFROM:-0800
TZOFFSETTO:-0700
TZNAME:PDT
DTSTART:20220313T100000
END:DAYLIGHT
BEGIN:STANDARD
TZOFFSETFROM:-0700
TZOFFSETTO:-0800
TZNAME:PST
DTSTART:20221106T090000
END:STANDARD
BEGIN:DAYLIGHT
TZOFFSETFROM:-0800
TZOFFSETTO:-0700
TZNAME:PDT
DTSTART:20230312T100000
END:DAYLIGHT
BEGIN:STANDARD
TZOFFSETFROM:-0700
TZOFFSETTO:-0800
TZNAME:PST
DTSTART:20231105T090000
END:STANDARD
END:VTIMEZONE
BEGIN:VEVENT
DTSTART;TZID=America/Los_Angeles:20221024T183000
DTEND;TZID=America/Los_Angeles:20221024T203000
DTSTAMP:20260423T222523
CREATED:20220830T183621Z
LAST-MODIFIED:20220919T213119Z
UID:4005-1666636200-1666643400@colleges.claremont.edu
SUMMARY:Woodworking Skill Share
DESCRIPTION:Learn the basics of wood working and get your hands on saws\, drivers\, and bits.  \nRegistration required! \nPlease RSVP on our Eventbrite starting 9/19!
URL:https://colleges.claremont.edu/thehive/event/woodworking-skill-share-4/
LOCATION:Toolbox — The Hive\, 130 E 7th St.\, Claremont\, CA\, 91711\, United States
ATTACH;FMTTYPE=image/png:https://colleges.claremont.edu/thehive/wp-content/uploads/sites/47/2022/08/toolbox-skill-share.png
GEO:34.1004361;-117.7143294
X-APPLE-STRUCTURED-LOCATION;VALUE=URI;X-ADDRESS=Toolbox — The Hive 130 E 7th St. Claremont CA 91711 United States;X-APPLE-RADIUS=500;X-TITLE=130 E 7th St.:geo:-117.7143294,34.1004361
END:VEVENT
BEGIN:VEVENT
DTSTART;TZID=America/Los_Angeles:20221021T153000
DTEND;TZID=America/Los_Angeles:20221021T170000
DTSTAMP:20260423T222523
CREATED:20220821T181126Z
LAST-MODIFIED:20220830T161010Z
UID:3952-1666366200-1666371600@colleges.claremont.edu
SUMMARY:Made @ The Hive: Woven Bracelets
DESCRIPTION:Your summer camp days may be over\, but it’s never too late to learn how to make beautiful threaded jewelry! \nRSVP required! \nReserve your spot on Eventbrite!
URL:https://colleges.claremont.edu/thehive/event/made-the-hive-woven-bracelets/
LOCATION:Toolbox — The Hive\, 130 E 7th St.\, Claremont\, CA\, 91711\, United States
ATTACH;FMTTYPE=image/png:https://colleges.claremont.edu/thehive/wp-content/uploads/sites/47/2022/08/woven-bracelets.png
GEO:34.1004361;-117.7143294
X-APPLE-STRUCTURED-LOCATION;VALUE=URI;X-ADDRESS=Toolbox — The Hive 130 E 7th St. Claremont CA 91711 United States;X-APPLE-RADIUS=500;X-TITLE=130 E 7th St.:geo:-117.7143294,34.1004361
END:VEVENT
BEGIN:VEVENT
DTSTART;TZID=America/Los_Angeles:20221013T183000
DTEND;TZID=America/Los_Angeles:20221013T203000
DTSTAMP:20260423T222523
CREATED:20220830T191052Z
LAST-MODIFIED:20220830T191052Z
UID:4014-1665685800-1665693000@colleges.claremont.edu
SUMMARY:Sound Recording Skill Share
DESCRIPTION:Do you dream of recording your own music or hosting your own podcast? Our Sound Recording skill share is the perfect first step on that path. Learn how to work with audio equipment and software from your peers at the Hive. \nRegistration Required! \nPlease RSVP on our Eventbrite starting 9/19!
URL:https://colleges.claremont.edu/thehive/event/sound-recording-skill-share-8/
LOCATION:Toolbox — The Hive\, 130 E 7th St.\, Claremont\, CA\, 91711\, United States
ATTACH;FMTTYPE=image/png:https://colleges.claremont.edu/thehive/wp-content/uploads/sites/47/2022/08/sound-recording-skill-share.png
GEO:34.1004361;-117.7143294
X-APPLE-STRUCTURED-LOCATION;VALUE=URI;X-ADDRESS=Toolbox — The Hive 130 E 7th St. Claremont CA 91711 United States;X-APPLE-RADIUS=500;X-TITLE=130 E 7th St.:geo:-117.7143294,34.1004361
END:VEVENT
BEGIN:VEVENT
DTSTART;TZID=America/Los_Angeles:20221012T180000
DTEND;TZID=America/Los_Angeles:20221012T200000
DTSTAMP:20260423T222523
CREATED:20220830T183337Z
LAST-MODIFIED:20220919T213138Z
UID:4003-1665597600-1665604800@colleges.claremont.edu
SUMMARY:Woodworking Skill Share
DESCRIPTION:Learn the basics of wood working and get your hands on saws\, drivers\, and bits.  \nRegistration required! \nPlease RSVP on our Eventbrite starting 9/19!
URL:https://colleges.claremont.edu/thehive/event/woodworking-skill-share-3/
LOCATION:Toolbox — The Hive\, 130 E 7th St.\, Claremont\, CA\, 91711\, United States
ATTACH;FMTTYPE=image/png:https://colleges.claremont.edu/thehive/wp-content/uploads/sites/47/2022/08/toolbox-skill-share.png
GEO:34.1004361;-117.7143294
X-APPLE-STRUCTURED-LOCATION;VALUE=URI;X-ADDRESS=Toolbox — The Hive 130 E 7th St. Claremont CA 91711 United States;X-APPLE-RADIUS=500;X-TITLE=130 E 7th St.:geo:-117.7143294,34.1004361
END:VEVENT
BEGIN:VEVENT
DTSTART;TZID=America/Los_Angeles:20221008T140000
DTEND;TZID=America/Los_Angeles:20221008T160000
DTSTAMP:20260423T222523
CREATED:20220821T180901Z
LAST-MODIFIED:20220821T180901Z
UID:3949-1665237600-1665244800@colleges.claremont.edu
SUMMARY:Made @ The Hive: Leatherworking w/ Dan Sedlacek
DESCRIPTION:Come learn the skills and process of leathercraft from Dan Sedlacek (Pomona ’09)! Each leather piece is cut\, stamped\, and assembled by you\, and in the end\, you’ll walk away with a heritage leather product created by your own hands! \nRSVP required! \nReserve your spot on Eventbrite!
URL:https://colleges.claremont.edu/thehive/event/made-the-hive-leatherworking-w-dan-sedlacek/
LOCATION:Toolbox — The Hive\, 130 E 7th St.\, Claremont\, CA\, 91711\, United States
ATTACH;FMTTYPE=image/png:https://colleges.claremont.edu/thehive/wp-content/uploads/sites/47/2022/08/leatherworking.png
GEO:34.1004361;-117.7143294
X-APPLE-STRUCTURED-LOCATION;VALUE=URI;X-ADDRESS=Toolbox — The Hive 130 E 7th St. Claremont CA 91711 United States;X-APPLE-RADIUS=500;X-TITLE=130 E 7th St.:geo:-117.7143294,34.1004361
END:VEVENT
BEGIN:VEVENT
DTSTART;TZID=America/Los_Angeles:20220926T183000
DTEND;TZID=America/Los_Angeles:20220926T203000
DTSTAMP:20260423T222523
CREATED:20220830T183129Z
LAST-MODIFIED:20220919T213129Z
UID:4002-1664217000-1664224200@colleges.claremont.edu
SUMMARY:Woodworking Skill Share
DESCRIPTION:Learn the basics of wood working and get your hands on saws\, drivers\, and bits.  \nRegistration required! \nPlease RSVP on our Eventbrite!
URL:https://colleges.claremont.edu/thehive/event/woodworking-skill-share-2/
LOCATION:Toolbox — The Hive\, 130 E 7th St.\, Claremont\, CA\, 91711\, United States
ATTACH;FMTTYPE=image/png:https://colleges.claremont.edu/thehive/wp-content/uploads/sites/47/2022/08/toolbox-skill-share.png
GEO:34.1004361;-117.7143294
X-APPLE-STRUCTURED-LOCATION;VALUE=URI;X-ADDRESS=Toolbox — The Hive 130 E 7th St. Claremont CA 91711 United States;X-APPLE-RADIUS=500;X-TITLE=130 E 7th St.:geo:-117.7143294,34.1004361
END:VEVENT
BEGIN:VEVENT
DTSTART;TZID=America/Los_Angeles:20220914T180000
DTEND;TZID=America/Los_Angeles:20220914T200000
DTSTAMP:20260423T222523
CREATED:20220830T182940Z
LAST-MODIFIED:20220830T182940Z
UID:4000-1663178400-1663185600@colleges.claremont.edu
SUMMARY:Woodworking Skill Share
DESCRIPTION:Learn the basics of wood working and get your hands on saws\, drivers\, and bits.  \nRegistration required! \nPlease RSVP on our Eventbrite!
URL:https://colleges.claremont.edu/thehive/event/woodworking-skill-share/
LOCATION:Toolbox — The Hive\, 130 E 7th St.\, Claremont\, CA\, 91711\, United States
ATTACH;FMTTYPE=image/png:https://colleges.claremont.edu/thehive/wp-content/uploads/sites/47/2022/08/woodworking-skill-share.png
GEO:34.1004361;-117.7143294
X-APPLE-STRUCTURED-LOCATION;VALUE=URI;X-ADDRESS=Toolbox — The Hive 130 E 7th St. Claremont CA 91711 United States;X-APPLE-RADIUS=500;X-TITLE=130 E 7th St.:geo:-117.7143294,34.1004361
END:VEVENT
BEGIN:VEVENT
DTSTART;TZID=America/Los_Angeles:20220423T140000
DTEND;TZID=America/Los_Angeles:20220423T160000
DTSTAMP:20260423T222523
CREATED:20220321T213356Z
LAST-MODIFIED:20220321T213356Z
UID:3842-1650722400-1650729600@colleges.claremont.edu
SUMMARY:Made @ the Hive: Leatherworking
DESCRIPTION:Come learn the skills and process of leathercraft. Taught by Dan Sedlacek (Pomona ’09) who founded the Luto Vhum 8 years ago to pursue his passion for craft and designing products that last. You’ll learn to shape our full-grain\, vegetable-tanned utility leather. Each piece is cut\, stamped and assembled by you. In the end you’ll walk away with a heritage leather product created by your hands and ready for whatever life brings your way. \nRegistration required! \nRSVP on our Eventbrite page!
URL:https://colleges.claremont.edu/thehive/event/made-the-hive-leatherworking/
LOCATION:Toolbox — The Hive\, 130 E 7th St.\, Claremont\, CA\, 91711\, United States
ATTACH;FMTTYPE=image/png:https://colleges.claremont.edu/thehive/wp-content/uploads/sites/47/2022/03/leatherworking.png
GEO:34.1004361;-117.7143294
X-APPLE-STRUCTURED-LOCATION;VALUE=URI;X-ADDRESS=Toolbox — The Hive 130 E 7th St. Claremont CA 91711 United States;X-APPLE-RADIUS=500;X-TITLE=130 E 7th St.:geo:-117.7143294,34.1004361
END:VEVENT
BEGIN:VEVENT
DTSTART;TZID=America/Los_Angeles:20210920T180000
DTEND;TZID=America/Los_Angeles:20210920T200000
DTSTAMP:20260423T222523
CREATED:20210824T172946Z
LAST-MODIFIED:20210903T210600Z
UID:3225-1632160800-1632168000@colleges.claremont.edu
SUMMARY:Woodworking Skill Share
DESCRIPTION:Explore the fundamentals of making and building in this peer-led session. Get your hands on power tools such as screw guns\, soldering irons\, and miter saws. Work with materials like clay\, wood\, and cardboard to build something useful for your dorm room and beyond. RSVP Here!
URL:https://colleges.claremont.edu/thehive/event/making-building-skill-share-2/2021-09-20/
LOCATION:Toolbox — The Hive\, 130 E 7th St.\, Claremont\, CA\, 91711\, United States
CATEGORIES:Making & Building Skill Share,Skill Share
ATTACH;FMTTYPE=image/png:https://colleges.claremont.edu/thehive/wp-content/uploads/sites/47/2021/08/woodworking-skill-share.png
GEO:34.1004361;-117.7143294
X-APPLE-STRUCTURED-LOCATION;VALUE=URI;X-ADDRESS=Toolbox — The Hive 130 E 7th St. Claremont CA 91711 United States;X-APPLE-RADIUS=500;X-TITLE=130 E 7th St.:geo:-117.7143294,34.1004361
END:VEVENT
BEGIN:VEVENT
DTSTART;TZID=America/Los_Angeles:20200312T173000
DTEND;TZID=America/Los_Angeles:20200312T190000
DTSTAMP:20260423T222523
CREATED:20200411T051935Z
LAST-MODIFIED:20200411T052413Z
UID:1775-1584034200-1584039600@colleges.claremont.edu
SUMMARY:Making & Building Skill Share
DESCRIPTION:Find out how to use power tools\, clay\, wood\, and cardboard to build something useful for your dorm room and beyond.
URL:https://colleges.claremont.edu/thehive/event/making-building-skill-share-2020-03-12/
LOCATION:Toolbox — The Hive\, 130 E 7th St.\, Claremont\, CA\, 91711\, United States
CATEGORIES:Making & Building Skill Share
ATTACH;FMTTYPE=image/png:https://colleges.claremont.edu/thehive/wp-content/uploads/sites/47/2020/04/making-building.png
GEO:34.1004361;-117.7143294
X-APPLE-STRUCTURED-LOCATION;VALUE=URI;X-ADDRESS=Toolbox — The Hive 130 E 7th St. Claremont CA 91711 United States;X-APPLE-RADIUS=500;X-TITLE=130 E 7th St.:geo:-117.7143294,34.1004361
END:VEVENT
BEGIN:VEVENT
DTSTART;TZID=America/Los_Angeles:20200305T173000
DTEND;TZID=America/Los_Angeles:20200305T190000
DTSTAMP:20260423T222523
CREATED:20200411T051935Z
LAST-MODIFIED:20200411T052337Z
UID:1774-1583429400-1583434800@colleges.claremont.edu
SUMMARY:Making & Building Skill Share
DESCRIPTION:Find out how to use power tools\, clay\, wood\, and cardboard to build something useful for your dorm room and beyond.
URL:https://colleges.claremont.edu/thehive/event/making-building-skill-share-2020-03-05/
LOCATION:Toolbox — The Hive\, 130 E 7th St.\, Claremont\, CA\, 91711\, United States
CATEGORIES:Making & Building Skill Share
ATTACH;FMTTYPE=image/png:https://colleges.claremont.edu/thehive/wp-content/uploads/sites/47/2020/04/making-building.png
GEO:34.1004361;-117.7143294
X-APPLE-STRUCTURED-LOCATION;VALUE=URI;X-ADDRESS=Toolbox — The Hive 130 E 7th St. Claremont CA 91711 United States;X-APPLE-RADIUS=500;X-TITLE=130 E 7th St.:geo:-117.7143294,34.1004361
END:VEVENT
BEGIN:VEVENT
DTSTART;TZID=America/Los_Angeles:20200227T173000
DTEND;TZID=America/Los_Angeles:20200227T190000
DTSTAMP:20260423T222523
CREATED:20200411T051928Z
LAST-MODIFIED:20200411T052608Z
UID:1773-1582824600-1582830000@colleges.claremont.edu
SUMMARY:Making & Building Skill Share
DESCRIPTION:Find out how to use power tools\, clay\, wood\, and cardboard to build something useful for your dorm room and beyond.
URL:https://colleges.claremont.edu/thehive/event/making-building-skill-share-2020-02-27/
LOCATION:Toolbox — The Hive\, 130 E 7th St.\, Claremont\, CA\, 91711\, United States
CATEGORIES:Making & Building Skill Share
ATTACH;FMTTYPE=image/png:https://colleges.claremont.edu/thehive/wp-content/uploads/sites/47/2020/04/making-building.png
GEO:34.1004361;-117.7143294
X-APPLE-STRUCTURED-LOCATION;VALUE=URI;X-ADDRESS=Toolbox — The Hive 130 E 7th St. Claremont CA 91711 United States;X-APPLE-RADIUS=500;X-TITLE=130 E 7th St.:geo:-117.7143294,34.1004361
END:VEVENT
BEGIN:VEVENT
DTSTART;TZID=America/Los_Angeles:20200220T173000
DTEND;TZID=America/Los_Angeles:20200220T190000
DTSTAMP:20260423T222523
CREATED:20200411T051928Z
LAST-MODIFIED:20200411T052620Z
UID:1772-1582219800-1582225200@colleges.claremont.edu
SUMMARY:Making & Building Skill Share
DESCRIPTION:Find out how to use power tools\, clay\, wood\, and cardboard to build something useful for your dorm room and beyond.
URL:https://colleges.claremont.edu/thehive/event/making-building-skill-share-2020-02-20/
LOCATION:Toolbox — The Hive\, 130 E 7th St.\, Claremont\, CA\, 91711\, United States
CATEGORIES:Making & Building Skill Share
ATTACH;FMTTYPE=image/png:https://colleges.claremont.edu/thehive/wp-content/uploads/sites/47/2020/04/making-building.png
GEO:34.1004361;-117.7143294
X-APPLE-STRUCTURED-LOCATION;VALUE=URI;X-ADDRESS=Toolbox — The Hive 130 E 7th St. Claremont CA 91711 United States;X-APPLE-RADIUS=500;X-TITLE=130 E 7th St.:geo:-117.7143294,34.1004361
END:VEVENT
BEGIN:VEVENT
DTSTART;TZID=America/Los_Angeles:20200213T173000
DTEND;TZID=America/Los_Angeles:20200213T190000
DTSTAMP:20260423T222523
CREATED:20200411T051928Z
LAST-MODIFIED:20200411T052631Z
UID:1771-1581615000-1581620400@colleges.claremont.edu
SUMMARY:Making & Building Skill Share
DESCRIPTION:Find out how to use power tools\, clay\, wood\, and cardboard to build something useful for your dorm room and beyond.
URL:https://colleges.claremont.edu/thehive/event/making-building-skill-share-2020-02-13/
LOCATION:Toolbox — The Hive\, 130 E 7th St.\, Claremont\, CA\, 91711\, United States
CATEGORIES:Making & Building Skill Share
ATTACH;FMTTYPE=image/png:https://colleges.claremont.edu/thehive/wp-content/uploads/sites/47/2020/04/making-building.png
GEO:34.1004361;-117.7143294
X-APPLE-STRUCTURED-LOCATION;VALUE=URI;X-ADDRESS=Toolbox — The Hive 130 E 7th St. Claremont CA 91711 United States;X-APPLE-RADIUS=500;X-TITLE=130 E 7th St.:geo:-117.7143294,34.1004361
END:VEVENT
BEGIN:VEVENT
DTSTART;TZID=America/Los_Angeles:20200206T173000
DTEND;TZID=America/Los_Angeles:20200206T190000
DTSTAMP:20260423T222523
CREATED:20200411T051928Z
LAST-MODIFIED:20200411T052427Z
UID:1769-1581010200-1581015600@colleges.claremont.edu
SUMMARY:Making & Building Skill Share
DESCRIPTION:Find out how to use power tools\, clay\, wood\, and cardboard to build something useful for your dorm room and beyond.
URL:https://colleges.claremont.edu/thehive/event/making-building-skill-share/
LOCATION:Toolbox — The Hive\, 130 E 7th St.\, Claremont\, CA\, 91711\, United States
CATEGORIES:Making & Building Skill Share
ATTACH;FMTTYPE=image/png:https://colleges.claremont.edu/thehive/wp-content/uploads/sites/47/2020/04/making-building.png
GEO:34.1004361;-117.7143294
X-APPLE-STRUCTURED-LOCATION;VALUE=URI;X-ADDRESS=Toolbox — The Hive 130 E 7th St. Claremont CA 91711 United States;X-APPLE-RADIUS=500;X-TITLE=130 E 7th St.:geo:-117.7143294,34.1004361
END:VEVENT
BEGIN:VEVENT
DTSTART;TZID=America/Los_Angeles:20200203T190000
DTEND;TZID=America/Los_Angeles:20200203T203000
DTSTAMP:20260423T222523
CREATED:20200411T051907Z
LAST-MODIFIED:20200411T053000Z
UID:1758-1580756400-1580761800@colleges.claremont.edu
SUMMARY:Metalsmithing Skill Share
DESCRIPTION:Have you always wanted to make your own jewelry or work with metal in various ways? Learn how to design and create your own project through the art of metalsmithing.
URL:https://colleges.claremont.edu/thehive/event/metalsmithing-skill-share/
LOCATION:Toolbox — The Hive\, 130 E 7th St.\, Claremont\, CA\, 91711\, United States
CATEGORIES:Metalsmithing Skill Share
ATTACH;FMTTYPE=image/png:https://colleges.claremont.edu/thehive/wp-content/uploads/sites/47/2020/04/metalsmithing.png
GEO:34.1004361;-117.7143294
X-APPLE-STRUCTURED-LOCATION;VALUE=URI;X-ADDRESS=Toolbox — The Hive 130 E 7th St. Claremont CA 91711 United States;X-APPLE-RADIUS=500;X-TITLE=130 E 7th St.:geo:-117.7143294,34.1004361
END:VEVENT
BEGIN:VEVENT
DTSTART;TZID=America/Los_Angeles:20191206T153000
DTEND;TZID=America/Los_Angeles:20191206T170000
DTSTAMP:20260423T222523
CREATED:20200411T051554Z
LAST-MODIFIED:20200411T051554Z
UID:1671-1575646200-1575651600@colleges.claremont.edu
SUMMARY:Made @ the Hive Candle Making
DESCRIPTION:The holidays are coming up! If you’re looking for a way to engage your senses and take away a gift for yourself or a dear one\, then candle making is the answer! We’ll have fresh herbs such as sage and thyme to place in candles\, as well as an array of essential oils to choose from. \nThis event is first-come\, first-serve\, so make sure to show up right at 3:30 pm to make a a candle!
URL:https://colleges.claremont.edu/thehive/event/made-the-hive-candle-making/
LOCATION:Toolbox — The Hive\, 130 E 7th St.\, Claremont\, CA\, 91711\, United States
CATEGORIES:By the Hive
ATTACH;FMTTYPE=image/jpeg:https://colleges.claremont.edu/thehive/wp-content/uploads/sites/47/2020/04/Candle-making.jpg
GEO:34.1004361;-117.7143294
X-APPLE-STRUCTURED-LOCATION;VALUE=URI;X-ADDRESS=Toolbox — The Hive 130 E 7th St. Claremont CA 91711 United States;X-APPLE-RADIUS=500;X-TITLE=130 E 7th St.:geo:-117.7143294,34.1004361
END:VEVENT
BEGIN:VEVENT
DTSTART;TZID=America/Los_Angeles:20191101T153000
DTEND;TZID=America/Los_Angeles:20191101T170000
DTSTAMP:20260423T222523
CREATED:20200411T051525Z
LAST-MODIFIED:20200411T051525Z
UID:1660-1572622200-1572627600@colleges.claremont.edu
SUMMARY:Made @ the Hive: Making Hair Oil
DESCRIPTION:Thanksgiving is just around the corner. It’s time to give back to your hair strands! Come check out Hairsgiving\, where you’ll mix oils to nourish your hair and moisturize your life!
URL:https://colleges.claremont.edu/thehive/event/made-the-hive-making-hair-oil/
LOCATION:Toolbox — The Hive\, 130 E 7th St.\, Claremont\, CA\, 91711\, United States
CATEGORIES:By the Hive
ATTACH;FMTTYPE=image/jpeg:https://colleges.claremont.edu/thehive/wp-content/uploads/sites/47/2020/04/Hairsgiving.jpg
GEO:34.1004361;-117.7143294
X-APPLE-STRUCTURED-LOCATION;VALUE=URI;X-ADDRESS=Toolbox — The Hive 130 E 7th St. Claremont CA 91711 United States;X-APPLE-RADIUS=500;X-TITLE=130 E 7th St.:geo:-117.7143294,34.1004361
END:VEVENT
BEGIN:VEVENT
DTSTART;TZID=America/Los_Angeles:20200403T153000
DTEND;TZID=America/Los_Angeles:20200403T183000
DTSTAMP:20260423T222523
CREATED:20200411T051810Z
LAST-MODIFIED:20200411T051810Z
UID:1753-1585927800-1585938600@colleges.claremont.edu
SUMMARY:[POSTPONED] Shibori Tie-dyeing
DESCRIPTION:Let’s dye this again! Explore the art and culture behind this historically rich Japanese tie-dye method. We’ll use different materials and techniques to unfold unexpected patterns\, using red and magenta dyes for spring! We’ll start in the Toolbox from 3:30 — 5:00 pm\, and then move into the Commons from 5:00 — 6:30 pm. \n\n\n\n3:30   – 5:00 pm Tying and dyeing (bring your own or we’ll provide tank tops to the first 20 participants) \n\n\n\n5:00 – 6:30 pm Collaborative and celebratory tie-dyed art piece (we’ll provide everything\, even delicious snacks; just bring your art making self)
URL:https://colleges.claremont.edu/thehive/event/shibori-tie-dyeing/
LOCATION:Toolbox — The Hive\, 130 E 7th St.\, Claremont\, CA\, 91711\, United States
CATEGORIES:By the Hive
ATTACH;FMTTYPE=image/png:https://colleges.claremont.edu/thehive/wp-content/uploads/sites/47/2020/04/shibori.png
GEO:34.1004361;-117.7143294
X-APPLE-STRUCTURED-LOCATION;VALUE=URI;X-ADDRESS=Toolbox — The Hive 130 E 7th St. Claremont CA 91711 United States;X-APPLE-RADIUS=500;X-TITLE=130 E 7th St.:geo:-117.7143294,34.1004361
END:VEVENT
BEGIN:VEVENT
DTSTART;TZID=America/Los_Angeles:20200306T153000
DTEND;TZID=America/Los_Angeles:20200306T170000
DTSTAMP:20260423T222523
CREATED:20200411T051810Z
LAST-MODIFIED:20200411T051810Z
UID:1747-1583508600-1583514000@colleges.claremont.edu
SUMMARY:Made @ the Hive: Candle Making
DESCRIPTION:Have you ever wanted to give someone (or yourself) a thoughtful and handmade gift\, but didn’t know what to make? Candle making is your answer! Relax\, choose a soothing essential oil\, and treat yourself. First come\, first served\, so arrive at 3:30 pm.
URL:https://colleges.claremont.edu/thehive/event/made-the-hive-candle-making-2/
LOCATION:Toolbox — The Hive\, 130 E 7th St.\, Claremont\, CA\, 91711\, United States
CATEGORIES:By the Hive
ATTACH;FMTTYPE=image/jpeg:https://colleges.claremont.edu/thehive/wp-content/uploads/sites/47/2020/04/Hive-LogoNewIndv-01.jpg
GEO:34.1004361;-117.7143294
X-APPLE-STRUCTURED-LOCATION;VALUE=URI;X-ADDRESS=Toolbox — The Hive 130 E 7th St. Claremont CA 91711 United States;X-APPLE-RADIUS=500;X-TITLE=130 E 7th St.:geo:-117.7143294,34.1004361
END:VEVENT
BEGIN:VEVENT
DTSTART;TZID=America/Los_Angeles:20180209T190000
DTEND;TZID=America/Los_Angeles:20180209T203000
DTSTAMP:20260423T222523
CREATED:20200411T051301Z
LAST-MODIFIED:20200411T051301Z
UID:1506-1518202800-1518208200@colleges.claremont.edu
SUMMARY:Intro to Metalsmithing
DESCRIPTION:For more information go to our facebook: www.facebook.com/pg/Hive5C/events/
URL:https://colleges.claremont.edu/thehive/event/intro-to-metalsmithing/
LOCATION:Toolbox — The Hive\, 130 E 7th St.\, Claremont\, CA\, 91711\, United States
GEO:34.1004361;-117.7143294
X-APPLE-STRUCTURED-LOCATION;VALUE=URI;X-ADDRESS=Toolbox — The Hive 130 E 7th St. Claremont CA 91711 United States;X-APPLE-RADIUS=500;X-TITLE=130 E 7th St.:geo:-117.7143294,34.1004361
END:VEVENT
BEGIN:VEVENT
DTSTART;TZID=America/Los_Angeles:20191115T153000
DTEND;TZID=America/Los_Angeles:20191115T170000
DTSTAMP:20260423T222523
CREATED:20200411T051554Z
LAST-MODIFIED:20200411T051554Z
UID:1667-1573831800-1573837200@colleges.claremont.edu
SUMMARY:Made @ the Hive: Nerikomi Air-Dry Clay
DESCRIPTION:Make a clay dish or mini pot using the Japanese nerikomi technique! Play around with different colored clay and patterns to build a unique and useful piece.
URL:https://colleges.claremont.edu/thehive/event/made-the-hive-nerikomi-air-dry-clay/
LOCATION:Toolbox — The Hive\, 130 E 7th St.\, Claremont\, CA\, 91711\, United States
CATEGORIES:By the Hive
ATTACH;FMTTYPE=image/jpeg:https://colleges.claremont.edu/thehive/wp-content/uploads/sites/47/2020/04/Nerikomi-air-dry-clay.jpg
GEO:34.1004361;-117.7143294
X-APPLE-STRUCTURED-LOCATION;VALUE=URI;X-ADDRESS=Toolbox — The Hive 130 E 7th St. Claremont CA 91711 United States;X-APPLE-RADIUS=500;X-TITLE=130 E 7th St.:geo:-117.7143294,34.1004361
END:VEVENT
BEGIN:VEVENT
DTSTART;TZID=America/Los_Angeles:20190927T153000
DTEND;TZID=America/Los_Angeles:20190927T170000
DTSTAMP:20260423T222523
CREATED:20200411T051417Z
LAST-MODIFIED:20200411T051417Z
UID:1643-1569598200-1569603600@colleges.claremont.edu
SUMMARY:Made @ the Hive: Shibori Cloth Dyeing
DESCRIPTION:Come learn all about the art and culture behind this historically rich Japanese tie-dye method. Let’s get creative with using different materials and techniques to unfold beautiful and unexpected patterns!
URL:https://colleges.claremont.edu/thehive/event/made-the-hive-shibori-cloth-dyeing/
LOCATION:Toolbox — The Hive\, 130 E 7th St.\, Claremont\, CA\, 91711\, United States
CATEGORIES:By the Hive
ATTACH;FMTTYPE=image/jpeg:https://colleges.claremont.edu/thehive/wp-content/uploads/sites/47/2020/04/Shibori-cloth-Dyeing.jpg
GEO:34.1004361;-117.7143294
X-APPLE-STRUCTURED-LOCATION;VALUE=URI;X-ADDRESS=Toolbox — The Hive 130 E 7th St. Claremont CA 91711 United States;X-APPLE-RADIUS=500;X-TITLE=130 E 7th St.:geo:-117.7143294,34.1004361
END:VEVENT
BEGIN:VEVENT
DTSTART;TZID=America/Los_Angeles:20180220T190000
DTEND;TZID=America/Los_Angeles:20180220T203000
DTSTAMP:20260423T222523
CREATED:20200411T051306Z
LAST-MODIFIED:20200411T051306Z
UID:1508-1519153200-1519158600@colleges.claremont.edu
SUMMARY:Sound Labs Series: 01 Micing
DESCRIPTION:For more information go to our facebook: www.facebook.com/pg/Hive5C/events/
URL:https://colleges.claremont.edu/thehive/event/sound-art-mini-workshop/
LOCATION:Toolbox — The Hive\, 130 E 7th St.\, Claremont\, CA\, 91711\, United States
GEO:34.1004361;-117.7143294
X-APPLE-STRUCTURED-LOCATION;VALUE=URI;X-ADDRESS=Toolbox — The Hive 130 E 7th St. Claremont CA 91711 United States;X-APPLE-RADIUS=500;X-TITLE=130 E 7th St.:geo:-117.7143294,34.1004361
END:VEVENT
END:VCALENDAR