BEGIN:VCALENDAR
VERSION:2.0
PRODID:-//The Hive - ECPv6.15.17.1//NONSGML v1.0//EN
CALSCALE:GREGORIAN
METHOD:PUBLISH
X-WR-CALNAME:The Hive
X-ORIGINAL-URL:https://colleges.claremont.edu/thehive
X-WR-CALDESC:Events for The Hive
REFRESH-INTERVAL;VALUE=DURATION:PT1H
X-Robots-Tag:noindex
X-PUBLISHED-TTL:PT1H
BEGIN:VTIMEZONE
TZID:America/Los_Angeles
BEGIN:DAYLIGHT
TZOFFSETFROM:-0800
TZOFFSETTO:-0700
TZNAME:PDT
DTSTART:20180311T100000
END:DAYLIGHT
BEGIN:STANDARD
TZOFFSETFROM:-0700
TZOFFSETTO:-0800
TZNAME:PST
DTSTART:20181104T090000
END:STANDARD
BEGIN:DAYLIGHT
TZOFFSETFROM:-0800
TZOFFSETTO:-0700
TZNAME:PDT
DTSTART:20190310T100000
END:DAYLIGHT
BEGIN:STANDARD
TZOFFSETFROM:-0700
TZOFFSETTO:-0800
TZNAME:PST
DTSTART:20191103T090000
END:STANDARD
BEGIN:DAYLIGHT
TZOFFSETFROM:-0800
TZOFFSETTO:-0700
TZNAME:PDT
DTSTART:20200308T100000
END:DAYLIGHT
BEGIN:STANDARD
TZOFFSETFROM:-0700
TZOFFSETTO:-0800
TZNAME:PST
DTSTART:20201101T090000
END:STANDARD
BEGIN:DAYLIGHT
TZOFFSETFROM:-0800
TZOFFSETTO:-0700
TZNAME:PDT
DTSTART:20210314T100000
END:DAYLIGHT
BEGIN:STANDARD
TZOFFSETFROM:-0700
TZOFFSETTO:-0800
TZNAME:PST
DTSTART:20211107T090000
END:STANDARD
BEGIN:DAYLIGHT
TZOFFSETFROM:-0800
TZOFFSETTO:-0700
TZNAME:PDT
DTSTART:20220313T100000
END:DAYLIGHT
BEGIN:STANDARD
TZOFFSETFROM:-0700
TZOFFSETTO:-0800
TZNAME:PST
DTSTART:20221106T090000
END:STANDARD
BEGIN:DAYLIGHT
TZOFFSETFROM:-0800
TZOFFSETTO:-0700
TZNAME:PDT
DTSTART:20230312T100000
END:DAYLIGHT
BEGIN:STANDARD
TZOFFSETFROM:-0700
TZOFFSETTO:-0800
TZNAME:PST
DTSTART:20231105T090000
END:STANDARD
BEGIN:DAYLIGHT
TZOFFSETFROM:-0800
TZOFFSETTO:-0700
TZNAME:PDT
DTSTART:20240310T100000
END:DAYLIGHT
BEGIN:STANDARD
TZOFFSETFROM:-0700
TZOFFSETTO:-0800
TZNAME:PST
DTSTART:20241103T090000
END:STANDARD
BEGIN:DAYLIGHT
TZOFFSETFROM:-0800
TZOFFSETTO:-0700
TZNAME:PDT
DTSTART:20250309T100000
END:DAYLIGHT
BEGIN:STANDARD
TZOFFSETFROM:-0700
TZOFFSETTO:-0800
TZNAME:PST
DTSTART:20251102T090000
END:STANDARD
BEGIN:DAYLIGHT
TZOFFSETFROM:-0800
TZOFFSETTO:-0700
TZNAME:PDT
DTSTART:20260308T100000
END:DAYLIGHT
BEGIN:STANDARD
TZOFFSETFROM:-0700
TZOFFSETTO:-0800
TZNAME:PST
DTSTART:20261101T090000
END:STANDARD
END:VTIMEZONE
BEGIN:VEVENT
DTSTART;TZID=America/Los_Angeles:20251111T183000
DTEND;TZID=America/Los_Angeles:20251111T203000
DTSTAMP:20260425T182614
CREATED:20250905T213112Z
LAST-MODIFIED:20251027T165211Z
UID:5412-1762885800-1762893000@colleges.claremont.edu
SUMMARY:SoundBox Workshop: Songwriting\, Producing + Mixing
DESCRIPTION:Press play on your future in music and podcasting at our SoundBox recording studio! \nRSVP Required — Click to Register!
URL:https://colleges.claremont.edu/thehive/event/soundbox-workshop-3/
LOCATION:Soundbox — The Hive\, 130 E 7th St\, Claremont\, CA\, 91711\, United States
ATTACH;FMTTYPE=image/png:https://colleges.claremont.edu/thehive/wp-content/uploads/sites/47/2025/09/Soundbox-Workshop-Eventbrite.png
END:VEVENT
BEGIN:VEVENT
DTSTART;TZID=America/Los_Angeles:20251007T183000
DTEND;TZID=America/Los_Angeles:20251007T203000
DTSTAMP:20260425T182614
CREATED:20250905T212555Z
LAST-MODIFIED:20250911T170920Z
UID:5410-1759861800-1759869000@colleges.claremont.edu
SUMMARY:SoundBox Workshop: Songwriting
DESCRIPTION:Press play on your future in music and podcasting at our SoundBox recording studio! \nRSVP Required — Click to Register!
URL:https://colleges.claremont.edu/thehive/event/soundbox-workshop-2/
LOCATION:Soundbox — The Hive\, 130 E 7th St\, Claremont\, CA\, 91711\, United States
ATTACH;FMTTYPE=image/png:https://colleges.claremont.edu/thehive/wp-content/uploads/sites/47/2025/09/Soundbox-Workshop-Eventbrite.png
END:VEVENT
BEGIN:VEVENT
DTSTART;TZID=America/Los_Angeles:20230425T183000
DTEND;TZID=America/Los_Angeles:20230425T203000
DTSTAMP:20260425T182614
CREATED:20230120T011508Z
LAST-MODIFIED:20230120T011508Z
UID:4299-1682447400-1682454600@colleges.claremont.edu
SUMMARY:Sound Recording Skill Share
DESCRIPTION:Do you dream of recording your own music or hosting your own podcast? Our Sound Recording skill share is the perfect first step on that path. Learn how to work with audio equipment and software from your peers at the Hive. \nRegistration required! \nClick here to RSVP!
URL:https://colleges.claremont.edu/thehive/event/sound-recording-skill-share-14/
LOCATION:Soundbox — The Hive\, 130 E 7th St\, Claremont\, CA\, 91711\, United States
ATTACH;FMTTYPE=image/png:https://colleges.claremont.edu/thehive/wp-content/uploads/sites/47/2023/01/soundbox-skill-share.png
END:VEVENT
BEGIN:VEVENT
DTSTART;TZID=America/Los_Angeles:20230411T183000
DTEND;TZID=America/Los_Angeles:20230411T203000
DTSTAMP:20260425T182614
CREATED:20230120T011339Z
LAST-MODIFIED:20230120T011339Z
UID:4298-1681237800-1681245000@colleges.claremont.edu
SUMMARY:Sound Recording Skill Share
DESCRIPTION:Do you dream of recording your own music or hosting your own podcast? Our Sound Recording skill share is the perfect first step on that path. Learn how to work with audio equipment and software from your peers at the Hive. \nRegistration required! \nClick here to RSVP!
URL:https://colleges.claremont.edu/thehive/event/sound-recording-skill-share-13/
LOCATION:Soundbox — The Hive\, 130 E 7th St\, Claremont\, CA\, 91711\, United States
ATTACH;FMTTYPE=image/png:https://colleges.claremont.edu/thehive/wp-content/uploads/sites/47/2023/01/soundbox-skill-share.png
END:VEVENT
BEGIN:VEVENT
DTSTART;TZID=America/Los_Angeles:20230321T183000
DTEND;TZID=America/Los_Angeles:20230321T203000
DTSTAMP:20260425T182614
CREATED:20230120T011207Z
LAST-MODIFIED:20230120T011207Z
UID:4297-1679423400-1679430600@colleges.claremont.edu
SUMMARY:Sound Recording Skill Share
DESCRIPTION:Do you dream of recording your own music or hosting your own podcast? Our Sound Recording skill share is the perfect first step on that path. Learn how to work with audio equipment and software from your peers at the Hive. \nRegistration required! \nClick here to RSVP!
URL:https://colleges.claremont.edu/thehive/event/sound-recording-skill-share-12/
LOCATION:Soundbox — The Hive\, 130 E 7th St\, Claremont\, CA\, 91711\, United States
ATTACH;FMTTYPE=image/png:https://colleges.claremont.edu/thehive/wp-content/uploads/sites/47/2023/01/soundbox-skill-share.png
END:VEVENT
BEGIN:VEVENT
DTSTART;TZID=America/Los_Angeles:20230221T183000
DTEND;TZID=America/Los_Angeles:20230221T203000
DTSTAMP:20260425T182614
CREATED:20230120T004605Z
LAST-MODIFIED:20230120T004605Z
UID:4286-1677004200-1677011400@colleges.claremont.edu
SUMMARY:Sound Recording Skill Share
DESCRIPTION:Do you dream of recording your own music or hosting your own podcast? Our Sound Recording skill share is the perfect first step on that path. Learn how to work with audio equipment and software from your peers at the Hive. \nRegistration required! \nClick here to RSVP!
URL:https://colleges.claremont.edu/thehive/event/sound-recording-skill-share-11/
LOCATION:Soundbox — The Hive\, 130 E 7th St\, Claremont\, CA\, 91711\, United States
ATTACH;FMTTYPE=image/png:https://colleges.claremont.edu/thehive/wp-content/uploads/sites/47/2023/01/soundbox-skill-share.png
END:VEVENT
BEGIN:VEVENT
DTSTART;TZID=America/Los_Angeles:20221117T183000
DTEND;TZID=America/Los_Angeles:20221117T203000
DTSTAMP:20260425T182614
CREATED:20220830T191851Z
LAST-MODIFIED:20220830T191851Z
UID:4016-1668709800-1668717000@colleges.claremont.edu
SUMMARY:Sound Recording Skill Share
DESCRIPTION:Do you dream of recording your own music or hosting your own podcast? Our Sound Recording skill share is the perfect first step on that path. Learn how to work with audio equipment and software from your peers at the Hive. \nRegistration Required! \nPlease RSVP on our Eventbrite starting 10/18!
URL:https://colleges.claremont.edu/thehive/event/sound-recording-skill-share-10/
LOCATION:Soundbox — The Hive\, 130 E 7th St\, Claremont\, CA\, 91711\, United States
ATTACH;FMTTYPE=image/png:https://colleges.claremont.edu/thehive/wp-content/uploads/sites/47/2022/08/sound-recording-skill-share.png
END:VEVENT
BEGIN:VEVENT
DTSTART;TZID=America/Los_Angeles:20221103T183000
DTEND;TZID=America/Los_Angeles:20221103T203000
DTSTAMP:20260425T182614
CREATED:20220830T191644Z
LAST-MODIFIED:20220830T191644Z
UID:4015-1667500200-1667507400@colleges.claremont.edu
SUMMARY:Sound Recording Skill Share
DESCRIPTION:Do you dream of recording your own music or hosting your own podcast? Our Sound Recording skill share is the perfect first step on that path. Learn how to work with audio equipment and software from your peers at the Hive. \nRegistration Required! \nPlease RSVP on our Eventbrite starting 10/18!
URL:https://colleges.claremont.edu/thehive/event/sound-recording-skill-share-9/
LOCATION:Soundbox — The Hive\, 130 E 7th St\, Claremont\, CA\, 91711\, United States
ATTACH;FMTTYPE=image/png:https://colleges.claremont.edu/thehive/wp-content/uploads/sites/47/2022/08/sound-recording-skill-share.png
END:VEVENT
BEGIN:VEVENT
DTSTART;TZID=America/Los_Angeles:20220922T183000
DTEND;TZID=America/Los_Angeles:20220922T203000
DTSTAMP:20260425T182614
CREATED:20220830T190546Z
LAST-MODIFIED:20220830T190546Z
UID:4011-1663871400-1663878600@colleges.claremont.edu
SUMMARY:Sound Recording Skill Share
DESCRIPTION:Do you dream of recording your own music or hosting your own podcast? Our Sound Recording skill share is the perfect first step on that path. Learn how to work with audio equipment and software from your peers at the Hive. \nRegistration Required! \nPlease RSVP on our Eventbrite!
URL:https://colleges.claremont.edu/thehive/event/sound-recording-skill-share-7/
LOCATION:Soundbox — The Hive\, 130 E 7th St\, Claremont\, CA\, 91711\, United States
ATTACH;FMTTYPE=image/png:https://colleges.claremont.edu/thehive/wp-content/uploads/sites/47/2022/08/sound-recording-skill-share.png
END:VEVENT
BEGIN:VEVENT
DTSTART;TZID=America/Los_Angeles:20220916T153000
DTEND;TZID=America/Los_Angeles:20220916T170000
DTSTAMP:20260425T182614
CREATED:20220821T180538Z
LAST-MODIFIED:20220821T180538Z
UID:3947-1663342200-1663347600@colleges.claremont.edu
SUMMARY:Made @ The Hive: Podcasting
DESCRIPTION:Do you have a hot take the world needs to hear? Join our podcast aficionado\, Olivia Hewitt\, as she walks you through the process of producing\, editing\, and releasing your very own pod. \nRSVP required! \nReserve your spot on Eventbrite!
URL:https://colleges.claremont.edu/thehive/event/made-the-hive-podcasting/
LOCATION:Soundbox — The Hive\, 130 E 7th St\, Claremont\, CA\, 91711\, United States
ATTACH;FMTTYPE=image/png:https://colleges.claremont.edu/thehive/wp-content/uploads/sites/47/2022/08/podcasting.png
END:VEVENT
BEGIN:VEVENT
DTSTART;TZID=America/Los_Angeles:20220916T153000
DTEND;TZID=America/Los_Angeles:20220916T170000
DTSTAMP:20260425T182614
CREATED:20220819T204842Z
LAST-MODIFIED:20220819T204938Z
UID:3944-1663342200-1663347600@colleges.claremont.edu
SUMMARY:Made @ The Hive: Intro to Podcasting
DESCRIPTION:Do you have a hot take the world needs to hear? Join our podcast aficionado\, Olivia Hewitt\, as she walks you through the process of producing\, editing\, and releasing your very own pod. \nRSVP required! \nReserve your spot on Eventbrite!
URL:https://colleges.claremont.edu/thehive/event/made-the-hive-intro-to-podcasting/
LOCATION:Soundbox — The Hive\, 130 E 7th St\, Claremont\, CA\, 91711\, United States
ATTACH;FMTTYPE=image/png:https://colleges.claremont.edu/thehive/wp-content/uploads/sites/47/2022/08/podcasting.png
END:VEVENT
BEGIN:VEVENT
DTSTART;TZID=America/Los_Angeles:20220908T183000
DTEND;TZID=America/Los_Angeles:20220908T203000
DTSTAMP:20260425T182614
CREATED:20220830T190304Z
LAST-MODIFIED:20220830T190304Z
UID:4009-1662661800-1662669000@colleges.claremont.edu
SUMMARY:Sound Recording Skill Share
DESCRIPTION:Do you dream of recording your own music or hosting your own podcast? Our Sound Recording skill share is the perfect first step on that path. Learn how to work with audio equipment and software from your peers at the Hive. \nRegistration Required! \nPlease RSVP on our Eventbrite!
URL:https://colleges.claremont.edu/thehive/event/sound-recording-skill-share-6/
LOCATION:Soundbox — The Hive\, 130 E 7th St\, Claremont\, CA\, 91711\, United States
ATTACH;FMTTYPE=image/png:https://colleges.claremont.edu/thehive/wp-content/uploads/sites/47/2022/08/sound-recording-skill-share.png
END:VEVENT
BEGIN:VEVENT
DTSTART;TZID=America/Los_Angeles:20211022T190000
DTEND;TZID=America/Los_Angeles:20211022T203000
DTSTAMP:20260425T182614
CREATED:20210819T231503Z
LAST-MODIFIED:20210902T202105Z
UID:3206-1634929200-1634934600@colleges.claremont.edu
SUMMARY:Podcasting
DESCRIPTION:Do you have a hot take the world needs to hear? Join Hive staffers and podcast aficionados Kaitlyn Paulsen (HMC ’22) and Olivia Hewitt (PZ ’22) as they walk you through the process of producing\, editing\, and releasing your very own pod. \nRegistration required! \nRSVP on out Eventbrite page!
URL:https://colleges.claremont.edu/thehive/event/podcasting/
LOCATION:Soundbox — The Hive\, 130 E 7th St\, Claremont\, CA\, 91711\, United States
ATTACH;FMTTYPE=image/png:https://colleges.claremont.edu/thehive/wp-content/uploads/sites/47/2021/08/podcasting-1.png
END:VEVENT
BEGIN:VEVENT
DTSTART;TZID=America/Los_Angeles:20200310T163000
DTEND;TZID=America/Los_Angeles:20200310T173000
DTSTAMP:20260425T182614
CREATED:20200411T051942Z
LAST-MODIFIED:20200411T054512Z
UID:1786-1583857800-1583861400@colleges.claremont.edu
SUMMARY:Soundbox Skill Share
DESCRIPTION:Explore the art of audio production\, podcasting\, and recording. You’ll learn basic skills in interviewing\, storytelling\, using a mic\, editing audio\, and recording music.
URL:https://colleges.claremont.edu/thehive/event/soundbox-skill-share-3-2020-03-10/
LOCATION:Soundbox — The Hive\, 130 E 7th St\, Claremont\, CA\, 91711\, United States
CATEGORIES:By the Hive,Soundbox Skill Share
ATTACH;FMTTYPE=image/png:https://colleges.claremont.edu/thehive/wp-content/uploads/sites/47/2020/04/soundbox.png
END:VEVENT
BEGIN:VEVENT
DTSTART;TZID=America/Los_Angeles:20200225T163000
DTEND;TZID=America/Los_Angeles:20200225T173000
DTSTAMP:20260425T182614
CREATED:20200411T051942Z
LAST-MODIFIED:20200411T054526Z
UID:1785-1582648200-1582651800@colleges.claremont.edu
SUMMARY:Soundbox Skill Share
DESCRIPTION:Explore the art of audio production\, podcasting\, and recording. You’ll learn basic skills in interviewing\, storytelling\, using a mic\, editing audio\, and recording music.
URL:https://colleges.claremont.edu/thehive/event/soundbox-skill-share-3-2020-02-25/
LOCATION:Soundbox — The Hive\, 130 E 7th St\, Claremont\, CA\, 91711\, United States
CATEGORIES:By the Hive,Soundbox Skill Share
ATTACH;FMTTYPE=image/png:https://colleges.claremont.edu/thehive/wp-content/uploads/sites/47/2020/04/soundbox.png
END:VEVENT
BEGIN:VEVENT
DTSTART;TZID=America/Los_Angeles:20200128T080000
DTEND;TZID=America/Los_Angeles:20200128T170000
DTSTAMP:20260425T182614
CREATED:20200411T051907Z
LAST-MODIFIED:20200411T055435Z
UID:1760-1580198400-1580230800@colleges.claremont.edu
SUMMARY:Soundbox Skill Share
DESCRIPTION:Explore the art of audio production\, podcasting\, and recording. You’ll learn basic skills in interviewing\, storytelling\, using a mic\, editing audio\, and recording music.
URL:https://colleges.claremont.edu/thehive/event/soundbox-skill-share-2/
LOCATION:Soundbox — The Hive\, 130 E 7th St\, Claremont\, CA\, 91711\, United States
CATEGORIES:By the Hive,Soundbox Skill Share
ATTACH;FMTTYPE=image/png:https://colleges.claremont.edu/thehive/wp-content/uploads/sites/47/2020/04/soundbox.png
END:VEVENT
BEGIN:VEVENT
DTSTART;TZID=America/Los_Angeles:20191119T150000
DTEND;TZID=America/Los_Angeles:20191119T163000
DTSTAMP:20260425T182614
CREATED:20200411T051358Z
LAST-MODIFIED:20200411T054536Z
UID:1636-1574175600-1574181000@colleges.claremont.edu
SUMMARY:Soundbox Skill Share
DESCRIPTION:Workshop 01: Tuesday\, September 17\nWorkshop 02: Tuesday\, October 15\nWorkshop 03: Tuesday\, November 19\nExplore the art of audio production\, podcasting\, and recording in the Soundbox! You will learn basic skills in interviewing\, storytelling\, using a mic\, editing audio\, and recording music. You don’t need skills\, but you will need to register. Led by ITS once a month! \nPlease bring your laptop with Audacity already installed before the skill share. If you need help installing Audacity\, please email Jason at jb004747@pomona.edu\, and he can walk you through it. \nRegister using the RSVP button below.
URL:https://colleges.claremont.edu/thehive/event/soundbox-skill-share-2019-11-19/
LOCATION:Soundbox — The Hive\, 130 E 7th St\, Claremont\, CA\, 91711\, United States
CATEGORIES:By the Hive,Soundbox Skill Share
ATTACH;FMTTYPE=image/jpeg:https://colleges.claremont.edu/thehive/wp-content/uploads/sites/47/2020/04/Soundbox-skillshare.jpg
END:VEVENT
BEGIN:VEVENT
DTSTART;TZID=America/Los_Angeles:20191015T150000
DTEND;TZID=America/Los_Angeles:20191015T163000
DTSTAMP:20260425T182614
CREATED:20200411T051358Z
LAST-MODIFIED:20200411T055425Z
UID:1635-1571151600-1571157000@colleges.claremont.edu
SUMMARY:Soundbox Skill Share
DESCRIPTION:Workshop 01: Tuesday\, September 17\nWorkshop 02: Tuesday\, October 15\nWorkshop 03: Tuesday\, November 19\nExplore the art of audio production\, podcasting\, and recording in the Soundbox! You will learn basic skills in interviewing\, storytelling\, using a mic\, editing audio\, and recording music. You don’t need skills\, but you will need to register. Led by ITS once a month! \nPlease bring your laptop with Audacity already installed before the skill share. If you need help installing Audacity\, please email Jason at jb004747@pomona.edu\, and he can walk you through it. \nRegister using the RSVP button below.
URL:https://colleges.claremont.edu/thehive/event/soundbox-skill-share-2019-10-15/
LOCATION:Soundbox — The Hive\, 130 E 7th St\, Claremont\, CA\, 91711\, United States
CATEGORIES:By the Hive,Soundbox Skill Share
ATTACH;FMTTYPE=image/jpeg:https://colleges.claremont.edu/thehive/wp-content/uploads/sites/47/2020/04/Soundbox-skillshare.jpg
END:VEVENT
BEGIN:VEVENT
DTSTART;TZID=America/Los_Angeles:20190917T150000
DTEND;TZID=America/Los_Angeles:20190917T163000
DTSTAMP:20260425T182614
CREATED:20200411T051358Z
LAST-MODIFIED:20200411T054500Z
UID:1633-1568732400-1568737800@colleges.claremont.edu
SUMMARY:Soundbox Skill Share
DESCRIPTION:Workshop 01: Tuesday\, September 17\nWorkshop 02: Tuesday\, October 15\nWorkshop 03: Tuesday\, November 19\nExplore the art of audio production\, podcasting\, and recording in the Soundbox! You will learn basic skills in interviewing\, storytelling\, using a mic\, editing audio\, and recording music. You don’t need skills\, but you will need to register. Led by ITS once a month! \nPlease bring your laptop with Audacity already installed before the skill share. If you need help installing Audacity\, please email Jason at jb004747@pomona.edu\, and he can walk you through it. \nRegister using the RSVP button below.
URL:https://colleges.claremont.edu/thehive/event/soundbox-skill-share/
LOCATION:Soundbox — The Hive\, 130 E 7th St\, Claremont\, CA\, 91711\, United States
CATEGORIES:By the Hive,Soundbox Skill Share
ATTACH;FMTTYPE=image/jpeg:https://colleges.claremont.edu/thehive/wp-content/uploads/sites/47/2020/04/Soundbox-skillshare.jpg
END:VEVENT
END:VCALENDAR